BEGIN:VCALENDAR
VERSION:2.0
PRODID:-//Gallatin Raptors Football - ECPv6.15.20//NONSGML v1.0//EN
CALSCALE:GREGORIAN
METHOD:PUBLISH
X-WR-CALNAME:Gallatin Raptors Football
X-ORIGINAL-URL:https://gallatinraptorfootball.com
X-WR-CALDESC:Events for Gallatin Raptors Football
REFRESH-INTERVAL;VALUE=DURATION:PT1H
X-Robots-Tag:noindex
X-PUBLISHED-TTL:PT1H
BEGIN:VTIMEZONE
TZID:America/Boise
BEGIN:DAYLIGHT
TZOFFSETFROM:-0700
TZOFFSETTO:-0600
TZNAME:MDT
DTSTART:20200308T090000
END:DAYLIGHT
BEGIN:STANDARD
TZOFFSETFROM:-0600
TZOFFSETTO:-0700
TZNAME:MST
DTSTART:20201101T080000
END:STANDARD
BEGIN:DAYLIGHT
TZOFFSETFROM:-0700
TZOFFSETTO:-0600
TZNAME:MDT
DTSTART:20210314T090000
END:DAYLIGHT
BEGIN:STANDARD
TZOFFSETFROM:-0600
TZOFFSETTO:-0700
TZNAME:MST
DTSTART:20211107T080000
END:STANDARD
BEGIN:DAYLIGHT
TZOFFSETFROM:-0700
TZOFFSETTO:-0600
TZNAME:MDT
DTSTART:20220313T090000
END:DAYLIGHT
BEGIN:STANDARD
TZOFFSETFROM:-0600
TZOFFSETTO:-0700
TZNAME:MST
DTSTART:20221106T080000
END:STANDARD
BEGIN:DAYLIGHT
TZOFFSETFROM:-0700
TZOFFSETTO:-0600
TZNAME:MDT
DTSTART:20230312T090000
END:DAYLIGHT
BEGIN:STANDARD
TZOFFSETFROM:-0600
TZOFFSETTO:-0700
TZNAME:MST
DTSTART:20231105T080000
END:STANDARD
BEGIN:DAYLIGHT
TZOFFSETFROM:-0700
TZOFFSETTO:-0600
TZNAME:MDT
DTSTART:20240310T090000
END:DAYLIGHT
BEGIN:STANDARD
TZOFFSETFROM:-0600
TZOFFSETTO:-0700
TZNAME:MST
DTSTART:20241103T080000
END:STANDARD
BEGIN:DAYLIGHT
TZOFFSETFROM:-0700
TZOFFSETTO:-0600
TZNAME:MDT
DTSTART:20250309T090000
END:DAYLIGHT
BEGIN:STANDARD
TZOFFSETFROM:-0600
TZOFFSETTO:-0700
TZNAME:MST
DTSTART:20251102T080000
END:STANDARD
END:VTIMEZONE
BEGIN:VEVENT
DTSTART;TZID=America/Boise:20240906T190000
DTEND;TZID=America/Boise:20240906T213000
DTSTAMP:20260423T040353
CREATED:20240228T052012Z
LAST-MODIFIED:20240829T051050Z
UID:651-1725649200-1725658200@gallatinraptorfootball.com
SUMMARY:Gallatin Varsity @ Sentinel
DESCRIPTION:Varsity @ Away
URL:https://gallatinraptorfootball.com/event/gallatin-varsity-game-vs-sentinel-missoula/
LOCATION:MCPS Stadium\, 3100 South Avenue West\, Missoula\, MT\, 59804\, United States
CATEGORIES:Varsity Football Games
ATTACH;FMTTYPE=image/jpeg:https://gallatinraptorfootball.com/wp-content/uploads/2023/02/Sentinelfootball.jpg
END:VEVENT
BEGIN:VEVENT
DTSTART;TZID=America/Boise:20240906T150000
DTEND;TZID=America/Boise:20240906T170000
DTSTAMP:20260423T040353
CREATED:20240227T233939Z
LAST-MODIFIED:20240829T051205Z
UID:680-1725634800-1725642000@gallatinraptorfootball.com
SUMMARY:Gallatin JV @ Sentinel
DESCRIPTION:Junior Varsity @ Away
URL:https://gallatinraptorfootball.com/event/gallatin-jv-vs-missoula-sentinel/
LOCATION:MCPS Stadium\, 3100 South Avenue West\, Missoula\, MT\, 59804\, United States
CATEGORIES:Junior Varsity Football Games
ATTACH;FMTTYPE=image/jpeg:https://gallatinraptorfootball.com/wp-content/uploads/2023/02/Sentinelfootball.jpg
END:VEVENT
BEGIN:VEVENT
DTSTART;TZID=America/Boise:20211122T180000
DTEND;TZID=America/Boise:20211122T200000
DTSTAMP:20260423T040353
CREATED:20211116T162446Z
LAST-MODIFIED:20211116T162506Z
UID:967-1637604000-1637611200@gallatinraptorfootball.com
SUMMARY:JV & Varsity Team Banquet
DESCRIPTION:Monday\, November 22nd Time: 6:00 PM Location: GHS Commons
URL:https://gallatinraptorfootball.com/event/jv-varsity-team-banquet/
LOCATION:GHS Commons\, 4455 Annie Street\,\, Bozeman\, MT\, 59718\, United States
END:VEVENT
BEGIN:VEVENT
DTSTART;TZID=America/Boise:20210719T123000
DTEND;TZID=America/Boise:20210719T143000
DTSTAMP:20260423T040353
CREATED:20210508T215237Z
LAST-MODIFIED:20210522T043433Z
UID:736-1626697800-1626705000@gallatinraptorfootball.com
SUMMARY:Blue & Black Elementary Camp
DESCRIPTION:Grade(s): Incoming 2nd-5th Graders \nTime: 12:30-2:30 PM 
URL:https://gallatinraptorfootball.com/event/blue-black-elementary-camp/
LOCATION:Van Winkle Stadium\, 205 N 11th Ave\, Bozeman\, MT\, 59715\, United States
CATEGORIES:Elementary
END:VEVENT
BEGIN:VEVENT
DTSTART;TZID=America/Boise:20210719T093000
DTEND;TZID=America/Boise:20210721T113000
DTSTAMP:20260423T040353
CREATED:20210508T215509Z
LAST-MODIFIED:20210522T043509Z
UID:737-1626687000-1626867000@gallatinraptorfootball.com
SUMMARY:Blue & Black Middle School Camp
DESCRIPTION:Grade(s): Incoming 6th-8th Graders \nTime: 9:30-11:30 AM
URL:https://gallatinraptorfootball.com/event/blue-black-middle-school-camp-2/
LOCATION:Van Winkle Stadium\, 205 N 11th Ave\, Bozeman\, MT\, 59715\, United States
CATEGORIES:Middle School
END:VEVENT
END:VCALENDAR